BEGIN:VCALENDAR
VERSION:2.0
PRODID:-//wp-events-plugin.com//7.2.3.1//EN
TZID:America/Chicago
X-WR-TIMEZONE:America/Chicago
BEGIN:VEVENT
UID:205@chicagoeft.com
DTSTART;TZID=America/Chicago:20241018T090000
DTEND;TZID=America/Chicago:20241018T110000
DTSTAMP:20241114T021730Z
URL:https://chicagoeft.com/events/asian-american-2024-10-18/
SUMMARY:Peer Group: Asian-American
DESCRIPTION:Peer Group for Asian-identified therapists to discuss EFT withi
 n an Asian/Asian-American context. Led by Jean Lee (jyle88@gmail.com).\n\n
 Meets every 3rd Friday of the month\, 9-11am.
CATEGORIES:Peer Group
END:VEVENT
BEGIN:VTIMEZONE
TZID:America/Chicago
X-LIC-LOCATION:America/Chicago
BEGIN:DAYLIGHT
DTSTART:20240310T030000
TZOFFSETFROM:-0600
TZOFFSETTO:-0500
TZNAME:CDT
END:DAYLIGHT
END:VTIMEZONE
END:VCALENDAR