BEGIN:VCALENDAR
VERSION:2.0
PRODID:-//wp-events-plugin.com//7.2.3.1//EN
TZID:America/Chicago
X-WR-TIMEZONE:America/Chicago
BEGIN:VEVENT
UID:239@chicagoeft.com
DTSTART;TZID=America/Chicago:20240923T093000
DTEND;TZID=America/Chicago:20240923T111500
DTSTAMP:20241114T021817Z
URL:https://chicagoeft.com/events/marcia-vickman-2024-09-23/
SUMMARY:Peer Group: Marcia Vickman
DESCRIPTION:Peer consultation group\, meets every other month online.
CATEGORIES:Peer Group
END:VEVENT
BEGIN:VTIMEZONE
TZID:America/Chicago
X-LIC-LOCATION:America/Chicago
BEGIN:DAYLIGHT
DTSTART:20240310T030000
TZOFFSETFROM:-0600
TZOFFSETTO:-0500
TZNAME:CDT
END:DAYLIGHT
END:VTIMEZONE
END:VCALENDAR